BEGIN:VCALENDAR
VERSION:2.0
PRODID:-//85.13.138.237//NONSGML kigkonsult.se iCalcreator 2.20//
CALSCALE:GREGORIAN
METHOD:PUBLISH
X-WR-TIMEZONE:Europe/Berlin
BEGIN:VEVENT
UID:event281@Bogensportclub Glauchau e.V.
DTSTAMP:20260424T173247Z
CATEGORIES:Wettkämpfe
DESCRIPTION:OVM Halle 2026\nKategorie: Wettkämpfe\nICS-Link: http://www.the
 -bowmen.de/index.php?option=com_jem&view=event&id=281:ovm-halle-2026\n
DTSTART;VALUE=DATE:20260109
DTEND;VALUE=DATE:20260111
LOCATION:Jahnturnhalle\,August-Bebel-Str. 15\,08371 Glauchau
SUMMARY:OVM Halle 2026
URL:http://www.the-bowmen.de/index.php?option=com_jem&view=event&id=281:ovm
 -halle-2026
END:VEVENT
END:VCALENDAR
