BEGIN:VCALENDAR
VERSION:2.0
PRODID:-//85.13.138.237//NONSGML kigkonsult.se iCalcreator 2.20//
CALSCALE:GREGORIAN
METHOD:PUBLISH
X-WR-TIMEZONE:Europe/Berlin
BEGIN:VEVENT
UID:event119@Bogensportclub Glauchau e.V.
DTSTAMP:20260424T174559Z
CATEGORIES:Wettkämpfe
DESCRIPTION:2. Runde Landesliga BoV\nKategorie: Wettkämpfe\nICS-Link: http:
 //www.the-bowmen.de/index.php?option=com_jem&view=event&id=119:2-runde-lan
 desliga-bov\n
DTSTART;VALUE=DATE:20200614
DTEND;VALUE=DATE:20200615
LOCATION:Bogensportanlage 'Rosemarie Förster'\,Beethovenweg 1Z\,08371 Glauc
 hau
SUMMARY:2. Runde Landesliga BoV
URL:http://www.the-bowmen.de/index.php?option=com_jem&view=event&id=119:2-r
 unde-landesliga-bov
END:VEVENT
END:VCALENDAR
