BEGIN:VCALENDAR
VERSION:2.0
PRODID:-//85.13.138.237//NONSGML kigkonsult.se iCalcreator 2.20//
CALSCALE:GREGORIAN
METHOD:PUBLISH
X-WR-TIMEZONE:Europe/Berlin
BEGIN:VEVENT
UID:event290@Bogensportclub Glauchau e.V.
DTSTAMP:20260425T034229Z
CATEGORIES:Wettkämpfe Verein
DESCRIPTION:Offene Vereinsmeisterschaft Freiluft \nKategorie: Wettkämpfe Ve
 rein\nICS-Link: http://www.the-bowmen.de/index.php?option=com_jem&view=eve
 nt&id=290:offene-vereinsmeisterschaft-freiluft\n
DTSTART;VALUE=DATE:20260606
DTEND;VALUE=DATE:20260607
LOCATION:Bogensportanlage 'Rosemarie Förster'\,Beethovenweg 1Z\,08371 Glauc
 hau
SUMMARY:Offene Vereinsmeisterschaft Freiluft 
URL:http://www.the-bowmen.de/index.php?option=com_jem&view=event&id=290:off
 ene-vereinsmeisterschaft-freiluft
END:VEVENT
END:VCALENDAR
