BEGIN:VCALENDAR
VERSION:2.0
PRODID:-//85.13.138.237//NONSGML kigkonsult.se iCalcreator 2.20//
CALSCALE:GREGORIAN
METHOD:PUBLISH
X-WR-TIMEZONE:Europe/Berlin
BEGIN:VEVENT
UID:event238@Bogensportclub Glauchau e.V.
DTSTAMP:20260420T203705Z
CATEGORIES:Wettkämpfe Verein
DESCRIPTION:offene Vereinsmeisterschaft Freiluft/ Zwickiade 2025\nKategorie
 : Wettkämpfe Verein\nICS-Link: http://www.the-bowmen.de/index.php?option=c
 om_jem&view=event&id=238:offene-vereinsmeisterschaft-freiluft-zwickiade-20
 25\n
DTSTART;VALUE=DATE:20250531
DTEND;VALUE=DATE:20250601
LOCATION:Bogensportanlage 'Rosemarie Förster'\,Beethovenweg 1Z\,08371 Glauc
 hau
SUMMARY:offene Vereinsmeisterschaft Freiluft/ Zwickiade 2025
URL:http://www.the-bowmen.de/index.php?option=com_jem&view=event&id=238:off
 ene-vereinsmeisterschaft-freiluft-zwickiade-2025
END:VEVENT
END:VCALENDAR
